View In:
ArcGIS JavaScript
ArcGIS Online Map Viewer
ArcGIS Earth
ArcMap
View Footprint In:
ArcGIS Online Map Viewer
Service Description: Prueba/Laderas
Name: Prueba/Laderas
Description:
Single Fused Map Cache: false
Extent:
XMin: 988047.0685394991
YMin: 282874.6010355088
XMax: 4131387.0685394993
YMax: 2455834.601035509
Spatial Reference: PROJCS["ITRF_1992_Lambert_Conformal_Conic",GEOGCS["GCS_ITRF_1992",DATUM["D_ITRF_1992",SPHEROID["GRS_1980",6378137.0,298.257222101]],PRIMEM["Greenwich",0.0],UNIT["Degree",0.0174532925199433]],PROJECTION["Lambert_Conformal_Conic"],PARAMETER["false_easting",2500000.0],PARAMETER["false_northing",0.0],PARAMETER["central_meridian",-102.0],PARAMETER["standard_parallel_1",17.5],PARAMETER["standard_parallel_2",29.5],PARAMETER["latitude_of_origin",12.0],UNIT["Meter",1.0]]
Initial Extent:
XMin: 988047.0685394991
YMin: 282874.6010355088
XMax: 4131387.0685394993
YMax: 2455834.601035509
Spatial Reference: PROJCS["ITRF_1992_Lambert_Conformal_Conic",GEOGCS["GCS_ITRF_1992",DATUM["D_ITRF_1992",SPHEROID["GRS_1980",6378137.0,298.257222101]],PRIMEM["Greenwich",0.0],UNIT["Degree",0.0174532925199433]],PROJECTION["Lambert_Conformal_Conic"],PARAMETER["false_easting",2500000.0],PARAMETER["false_northing",0.0],PARAMETER["central_meridian",-102.0],PARAMETER["standard_parallel_1",17.5],PARAMETER["standard_parallel_2",29.5],PARAMETER["latitude_of_origin",12.0],UNIT["Meter",1.0]]
Full Extent:
XMin: 988047.0685394991
YMin: 282874.6010355088
XMax: 4131387.0685394993
YMax: 2455834.601035509
Spatial Reference: PROJCS["ITRF_1992_Lambert_Conformal_Conic",GEOGCS["GCS_ITRF_1992",DATUM["D_ITRF_1992",SPHEROID["GRS_1980",6378137.0,298.257222101]],PRIMEM["Greenwich",0.0],UNIT["Degree",0.0174532925199433]],PROJECTION["Lambert_Conformal_Conic"],PARAMETER["false_easting",2500000.0],PARAMETER["false_northing",0.0],PARAMETER["central_meridian",-102.0],PARAMETER["standard_parallel_1",17.5],PARAMETER["standard_parallel_2",29.5],PARAMETER["latitude_of_origin",12.0],UNIT["Meter",1.0]]
Pixel Size X: 15.0
Pixel Size Y: 15.0
Band Count: 1
Pixel Type: S8
RasterFunction Infos: {"rasterFunctionInfos": [{
"name": "None",
"description": "",
"help": ""
}]}
Mensuration Capabilities: Basic
Has Histograms: true
Has Colormap: false
Has Multi Dimensions : false
Rendering Rule:
Min Scale: 0
Max Scale: 0
Copyright Text:
Service Data Type: esriImageServiceDataTypeGeneric
Min Values: 1
Max Values: 5
Mean Values: 2.107082054491915
Standard Deviation Values: 1.3660076710288906
Object ID Field:
Fields:
None
Default Mosaic Method: Center
Allowed Mosaic Methods:
SortField:
SortValue: null
Mosaic Operator: First
Default Compression Quality: 75
Default Resampling Method: Bilinear
Max Record Count: null
Max Image Height: 4100
Max Image Width: 15000
Max Download Image Count: null
Max Mosaic Image Count: null
Allow Raster Function: true
Allow Compute TiePoints: false
Supports Statistics: false
Supports Advanced Queries: false
Use StandardizedQueries: true
Raster Type Infos:
Name: Raster Dataset
Description: Supports all ArcGIS Raster Datasets
Help:
Has Raster Attribute Table: true
Edit Fields Info: null
Ownership Based AccessControl For Rasters: null
Child Resources:
Info
Raster Attribute Table
Histograms
Key Properties
Legend
MultiDimensionalInfo
rasterFunctionInfos
Supported Operations:
Export Image
Identify
Measure
Compute Histograms
Compute Statistics Histograms
Get Samples
Compute Class Statistics
Query Boundary