{
 "currentVersion": 10.61,
 "serviceDescription": "Prueba/Laderas",
 "name": "Prueba/Laderas",
 "description": "",
 "extent": {
  "xmin": 988047.0685394991,
  "ymin": 282874.6010355088,
  "xmax": 4131387.0685394993,
  "ymax": 2455834.601035509,
  "spatialReference": {
   "wkt": "PROJCS[\"ITRF_1992_Lambert_Conformal_Conic\",GEOGCS[\"GCS_ITRF_1992\",DATUM[\"D_ITRF_1992\",SPHEROID[\"GRS_1980\",6378137.0,298.257222101]],PRIMEM[\"Greenwich\",0.0],UNIT[\"Degree\",0.0174532925199433]],PROJECTION[\"Lambert_Conformal_Conic\"],PARAMETER[\"false_easting\",2500000.0],PARAMETER[\"false_northing\",0.0],PARAMETER[\"central_meridian\",-102.0],PARAMETER[\"standard_parallel_1\",17.5],PARAMETER[\"standard_parallel_2\",29.5],PARAMETER[\"latitude_of_origin\",12.0],UNIT[\"Meter\",1.0]]"
  }
 },
 "initialExtent": {
  "xmin": 988047.0685394991,
  "ymin": 282874.6010355088,
  "xmax": 4131387.0685394993,
  "ymax": 2455834.601035509,
  "spatialReference": {
   "wkt": "PROJCS[\"ITRF_1992_Lambert_Conformal_Conic\",GEOGCS[\"GCS_ITRF_1992\",DATUM[\"D_ITRF_1992\",SPHEROID[\"GRS_1980\",6378137.0,298.257222101]],PRIMEM[\"Greenwich\",0.0],UNIT[\"Degree\",0.0174532925199433]],PROJECTION[\"Lambert_Conformal_Conic\"],PARAMETER[\"false_easting\",2500000.0],PARAMETER[\"false_northing\",0.0],PARAMETER[\"central_meridian\",-102.0],PARAMETER[\"standard_parallel_1\",17.5],PARAMETER[\"standard_parallel_2\",29.5],PARAMETER[\"latitude_of_origin\",12.0],UNIT[\"Meter\",1.0]]"
  }
 },
 "fullExtent": {
  "xmin": 988047.0685394991,
  "ymin": 282874.6010355088,
  "xmax": 4131387.0685394993,
  "ymax": 2455834.601035509,
  "spatialReference": {
   "wkt": "PROJCS[\"ITRF_1992_Lambert_Conformal_Conic\",GEOGCS[\"GCS_ITRF_1992\",DATUM[\"D_ITRF_1992\",SPHEROID[\"GRS_1980\",6378137.0,298.257222101]],PRIMEM[\"Greenwich\",0.0],UNIT[\"Degree\",0.0174532925199433]],PROJECTION[\"Lambert_Conformal_Conic\"],PARAMETER[\"false_easting\",2500000.0],PARAMETER[\"false_northing\",0.0],PARAMETER[\"central_meridian\",-102.0],PARAMETER[\"standard_parallel_1\",17.5],PARAMETER[\"standard_parallel_2\",29.5],PARAMETER[\"latitude_of_origin\",12.0],UNIT[\"Meter\",1.0]]"
  }
 },
 "pixelSizeX": 15,
 "pixelSizeY": 15,
 "bandCount": 1,
 "pixelType": "S8",
 "minPixelSize": 0,
 "maxPixelSize": 0,
 "copyrightText": "",
 "serviceDataType": "esriImageServiceDataTypeGeneric",
 "minValues": [
  1
 ],
 "maxValues": [
  5
 ],
 "meanValues": [
  2.107082054491915
 ],
 "stdvValues": [
  1.3660076710288906
 ],
 "objectIdField": "",
 "fields": [],
 "capabilities": "Image,Metadata,Mensuration",
 "defaultMosaicMethod": "Center",
 "allowedMosaicMethods": "",
 "sortField": "",
 "sortValue": null,
 "mosaicOperator": "First",
 "defaultCompressionQuality": 75,
 "defaultResamplingMethod": "Bilinear",
 "maxImageHeight": 4100,
 "maxImageWidth": 15000,
 "allowRasterFunction": true,
 "rasterFunctionInfos": [
  {
   "name": "None",
   "description": "",
   "help": ""
  }
 ],
 "rasterTypeInfos": [
  {
   "name": "Raster Dataset",
   "description": "Supports all ArcGIS Raster Datasets",
   "help": ""
  }
 ],
 "mensurationCapabilities": "Basic",
 "hasHistograms": true,
 "hasColormap": false,
 "hasRasterAttributeTable": true,
 "minScale": 0,
 "maxScale": 0,
 "exportTilesAllowed": false,
 "hasMultidimensions": false,
 "supportsStatistics": false,
 "supportsAdvancedQueries": false,
 "editFieldsInfo": null,
 "ownershipBasedAccessControlForRasters": null,
 "allowComputeTiePoints": false,
 "useStandardizedQueries": true,
 "advancedQueryCapabilities": {
  "useStandardizedQueries": true,
  "supportsStatistics": false,
  "supportsOrderBy": false,
  "supportsDistinct": false,
  "supportsPagination": false
 },
 "spatialReference": {
  "wkt": "PROJCS[\"ITRF_1992_Lambert_Conformal_Conic\",GEOGCS[\"GCS_ITRF_1992\",DATUM[\"D_ITRF_1992\",SPHEROID[\"GRS_1980\",6378137.0,298.257222101]],PRIMEM[\"Greenwich\",0.0],UNIT[\"Degree\",0.0174532925199433]],PROJECTION[\"Lambert_Conformal_Conic\"],PARAMETER[\"false_easting\",2500000.0],PARAMETER[\"false_northing\",0.0],PARAMETER[\"central_meridian\",-102.0],PARAMETER[\"standard_parallel_1\",17.5],PARAMETER[\"standard_parallel_2\",29.5],PARAMETER[\"latitude_of_origin\",12.0],UNIT[\"Meter\",1.0]]"
 }
}
