View In:
ArcGIS JavaScript
ArcGIS Online Map Viewer
ArcGIS Earth
ArcMap
View Footprint In:
ArcGIS Online Map Viewer
Service Description: DGPC/dem_chalco_tif
Name: DGPC/dem_chalco_tif
Description:
Single Fused Map Cache: false
Extent:
XMin: -98.9696187797105
YMin: 19.157637321989302
XMax: -98.6829521128145
YMax: 19.3191650998963
Spatial Reference: GEOGCS["GCS_MEXICO_ITRF_2008",DATUM["D_ITRF_2008",SPHEROID["GRS_1980",6378137.0,298.257222101]],PRIMEM["Greenwich",0.0],UNIT["Degree",0.0174532925199433]]
Initial Extent:
XMin: -98.9696187797105
YMin: 19.157637321989302
XMax: -98.6829521128145
YMax: 19.3191650998963
Spatial Reference: GEOGCS["GCS_MEXICO_ITRF_2008",DATUM["D_ITRF_2008",SPHEROID["GRS_1980",6378137.0,298.257222101]],PRIMEM["Greenwich",0.0],UNIT["Degree",0.0174532925199433]]
Full Extent:
XMin: -98.9696187797105
YMin: 19.157637321989302
XMax: -98.6829521128145
YMax: 19.3191650998963
Spatial Reference: GEOGCS["GCS_MEXICO_ITRF_2008",DATUM["D_ITRF_2008",SPHEROID["GRS_1980",6378137.0,298.257222101]],PRIMEM["Greenwich",0.0],UNIT["Degree",0.0174532925199433]]
Pixel Size X: 1.388888889999983E-4
Pixel Size Y: 1.3888888899999744E-4
Band Count: 1
Pixel Type: S16
RasterFunction Infos: {"rasterFunctionInfos": [{
"name": "None",
"description": "",
"help": ""
}]}
Mensuration Capabilities: Basic
Has Histograms: true
Has Colormap: false
Has Multi Dimensions : false
Rendering Rule:
Min Scale: 0
Max Scale: 0
Copyright Text:
Service Data Type: esriImageServiceDataTypeThematic
Min Values: 2205
Max Values: 3703
Mean Values: 2540.5477511422
Standard Deviation Values: 377.25268520617
Object ID Field:
Fields:
None
Default Mosaic Method: Center
Allowed Mosaic Methods:
SortField:
SortValue: null
Mosaic Operator: First
Default Compression Quality: 75
Default Resampling Method: Bilinear
Max Record Count: null
Max Image Height: 4100
Max Image Width: 15000
Max Download Image Count: null
Max Mosaic Image Count: null
Allow Raster Function: true
Allow Compute TiePoints: false
Supports Statistics: false
Supports Advanced Queries: false
Use StandardizedQueries: true
Raster Type Infos:
Name: Raster Dataset
Description: Supports all ArcGIS Raster Datasets
Help:
Has Raster Attribute Table: false
Edit Fields Info: null
Ownership Based AccessControl For Rasters: null
Child Resources:
Info
Histograms
Key Properties
Legend
MultiDimensionalInfo
rasterFunctionInfos
Supported Operations:
Export Image
Identify
Measure
Compute Histograms
Compute Statistics Histograms
Get Samples
Compute Class Statistics
Query Boundary