{
 "currentVersion": 10.61,
 "serviceDescription": "DGPC/dem_chalco_tif",
 "name": "DGPC/dem_chalco_tif",
 "description": "",
 "extent": {
  "xmin": -98.9696187797105,
  "ymin": 19.157637321989302,
  "xmax": -98.6829521128145,
  "ymax": 19.3191650998963,
  "spatialReference": {
   "wkt": "GEOGCS[\"GCS_MEXICO_ITRF_2008\",DATUM[\"D_ITRF_2008\",SPHEROID[\"GRS_1980\",6378137.0,298.257222101]],PRIMEM[\"Greenwich\",0.0],UNIT[\"Degree\",0.0174532925199433]]"
  }
 },
 "initialExtent": {
  "xmin": -98.9696187797105,
  "ymin": 19.157637321989302,
  "xmax": -98.6829521128145,
  "ymax": 19.3191650998963,
  "spatialReference": {
   "wkt": "GEOGCS[\"GCS_MEXICO_ITRF_2008\",DATUM[\"D_ITRF_2008\",SPHEROID[\"GRS_1980\",6378137.0,298.257222101]],PRIMEM[\"Greenwich\",0.0],UNIT[\"Degree\",0.0174532925199433]]"
  }
 },
 "fullExtent": {
  "xmin": -98.9696187797105,
  "ymin": 19.157637321989302,
  "xmax": -98.6829521128145,
  "ymax": 19.3191650998963,
  "spatialReference": {
   "wkt": "GEOGCS[\"GCS_MEXICO_ITRF_2008\",DATUM[\"D_ITRF_2008\",SPHEROID[\"GRS_1980\",6378137.0,298.257222101]],PRIMEM[\"Greenwich\",0.0],UNIT[\"Degree\",0.0174532925199433]]"
  }
 },
 "pixelSizeX": 1.388888889999983E-4,
 "pixelSizeY": 1.3888888899999744E-4,
 "bandCount": 1,
 "pixelType": "S16",
 "minPixelSize": 0,
 "maxPixelSize": 0,
 "copyrightText": "",
 "serviceDataType": "esriImageServiceDataTypeThematic",
 "minValues": [
  2205
 ],
 "maxValues": [
  3703
 ],
 "meanValues": [
  2540.5477511422
 ],
 "stdvValues": [
  377.25268520617
 ],
 "objectIdField": "",
 "fields": [],
 "capabilities": "Image,Metadata,Mensuration",
 "defaultMosaicMethod": "Center",
 "allowedMosaicMethods": "",
 "sortField": "",
 "sortValue": null,
 "mosaicOperator": "First",
 "defaultCompressionQuality": 75,
 "defaultResamplingMethod": "Bilinear",
 "maxImageHeight": 4100,
 "maxImageWidth": 15000,
 "allowRasterFunction": true,
 "rasterFunctionInfos": [
  {
   "name": "None",
   "description": "",
   "help": ""
  }
 ],
 "rasterTypeInfos": [
  {
   "name": "Raster Dataset",
   "description": "Supports all ArcGIS Raster Datasets",
   "help": ""
  }
 ],
 "mensurationCapabilities": "Basic",
 "hasHistograms": true,
 "hasColormap": false,
 "hasRasterAttributeTable": false,
 "minScale": 0,
 "maxScale": 0,
 "exportTilesAllowed": false,
 "hasMultidimensions": false,
 "supportsStatistics": false,
 "supportsAdvancedQueries": false,
 "editFieldsInfo": null,
 "ownershipBasedAccessControlForRasters": null,
 "allowComputeTiePoints": false,
 "useStandardizedQueries": true,
 "advancedQueryCapabilities": {
  "useStandardizedQueries": true,
  "supportsStatistics": false,
  "supportsOrderBy": false,
  "supportsDistinct": false,
  "supportsPagination": false
 },
 "spatialReference": {
  "wkt": "GEOGCS[\"GCS_MEXICO_ITRF_2008\",DATUM[\"D_ITRF_2008\",SPHEROID[\"GRS_1980\",6378137.0,298.257222101]],PRIMEM[\"Greenwich\",0.0],UNIT[\"Degree\",0.0174532925199433]]"
 }
}
